BEGIN:VCALENDAR
VERSION:2.0
PRODID:spatie/icalendar-generator
DESCRIPTION:Events from Faith Church
X-WR-CALDESC:Events from Faith Church
REFRESH-INTERVAL;VALUE=DURATION:PT1440M
X-PUBLISHED-TTL:PT1440M
BEGIN:VTIMEZONE
TZID:Etc/GMT+0
BEGIN:STANDARD
DTSTART:20250705T100000Z
TZOFFSETFROM:+0000
TZOFFSETTO:+0000
END:STANDARD
END:VTIMEZONE
BEGIN:VTIMEZONE
TZID:UTC
BEGIN:STANDARD
DTSTART:20250728T153929Z
TZOFFSETFROM:+0000
TZOFFSETTO:+0000
END:STANDARD
END:VTIMEZONE
BEGIN:VEVENT
UID:99-5
DTSTAMP:20260424T153929Z
SUMMARY:Sit To Be Fit
LOCATION:
ORGANIZER;CN=bjparsley:MAILTO:bjparsley@comcast.net
RRULE:FREQ=WEEKLY;UNTIL=20260806T000000Z
DTSTART;TZID=Etc/GMT+0:20260401T100000
DTEND;TZID=Etc/GMT+0:20260401T111500
X-ALT-DESC;FMTTYPE=TEXT/HTML:Come join us in fellowship and get in shape. T
 his class is a sitting exercise time\, that is for everyone\, no matter if
  you are a beginner or are experienced in fitness. These low-impact aerobi
 cs exercises are perfect for those with limited mobility\, coordination o
 r arthritis. They are designed to increase flexibility\, strength\, improv
 e coordination &amp;amp\;&amp;hellip\;
CATEGORIES:General
URL;VALUE=URI:https://myfaithchurch.org/mc-events/sit-to-be-fit/?mc_id=99
METHOD:PUBLISH
END:VEVENT
END:VCALENDAR