BEGIN:VCALENDAR
VERSION:2.0
PRODID:spatie/icalendar-generator
DESCRIPTION:Events from Faith Church
X-WR-CALDESC:Events from Faith Church
REFRESH-INTERVAL;VALUE=DURATION:PT1440M
X-PUBLISHED-TTL:PT1440M
BEGIN:VTIMEZONE
TZID:Etc/GMT+0
BEGIN:STANDARD
DTSTART:20250715T080000Z
TZOFFSETFROM:+0000
TZOFFSETTO:+0000
END:STANDARD
END:VTIMEZONE
BEGIN:VTIMEZONE
TZID:UTC
BEGIN:STANDARD
DTSTART:20250728T154621Z
TZOFFSETFROM:+0000
TZOFFSETTO:+0000
END:STANDARD
END:VTIMEZONE
BEGIN:VEVENT
UID:12-3
DTSTAMP:20260424T154621Z
SUMMARY:Men's Breakfast
LOCATION:Faith Church 1895 State Rd 44  Martinsville IN 46151
ORGANIZER;CN=bjparsley:MAILTO:bjparsley@comcast.net
RRULE:FREQ=MONTHLY;BYDAY=2SA;UNTIL=20260613T000000Z
DTSTART;TZID=Etc/GMT+0:20260411T080000
DTEND;TZID=Etc/GMT+0:20260411T090000
X-ALT-DESC;FMTTYPE=TEXT/HTML:Join us for good food and fellowship the 2nd S
 aturday of every month.
CATEGORIES:General
URL;VALUE=URI:https://myfaithchurch.org/mc-events/mens-breakfast/?mc_id=12
METHOD:PUBLISH
END:VEVENT
END:VCALENDAR